BEGIN:VCALENDAR
VERSION:2.0
PRODID:-//Soul City - ECPv5.14.2.1//NONSGML v1.0//EN
CALSCALE:GREGORIAN
METHOD:PUBLISH
X-WR-CALNAME:Soul City
X-ORIGINAL-URL:https://soulcityibiza.club
X-WR-CALDESC:Events for Soul City
REFRESH-INTERVAL;VALUE=DURATION:PT1H
X-Robots-Tag:noindex
X-PUBLISHED-TTL:PT1H
BEGIN:VTIMEZONE
TZID:UTC
BEGIN:STANDARD
TZOFFSETFROM:+0000
TZOFFSETTO:+0000
TZNAME:UTC
DTSTART:20280101T000000
END:STANDARD
END:VTIMEZONE
BEGIN:VEVENT
DTSTART;TZID=UTC:20280421T230000
DTEND;TZID=UTC:20290420T030000
DTSTAMP:20260423T064617
CREATED:20220405T093020Z
LAST-MODIFIED:20220405T093020Z
UID:11277-1839970800-1871348400@soulcityibiza.club
SUMMARY:Friday - Love RnB
DESCRIPTION:
URL:https://soulcityibiza.club/event/friday-love-rnb/2028-04-21/
ATTACH;FMTTYPE=image/jpeg:https://soulcityibiza.club/wp-content/uploads/2022/04/LOVE-RNB-Every-Friday-Website-2024.jpg
END:VEVENT
END:VCALENDAR